BEGIN:VCALENDAR
VERSION:2.0
PRODID:-//www.caringplacetx.org//NONSGML kigkonsult.se iCalcreator 2.30.10/
 /
CALSCALE:GREGORIAN
METHOD:PUBLISH
UID:473a7a54-3dc1-4e12-a7b5-d401da94ead5
X-WR-CALDESC:The Caring Place Food Pantry is closed on Thursdays. Pantry ho
 urs are 9 AM to 4 PM on Mondays\, Tuesdays\, Wednesdays\, and Fridays.
X-WR-RELCALID:2660c0a7024a167a98ffd2f01baf31c6
X-WR-TIMEZONE:America/Chicago
BEGIN:VTIMEZONE
TZID:America/Chicago
BEGIN:STANDARD
TZNAME:CST
DTSTART:20251102T020000
TZOFFSETFROM:-0500
TZOFFSETTO:-0600
RDATE:20261101T020000
RDATE:20271107T020000
END:STANDARD
BEGIN:DAYLIGHT
TZNAME:CDT
DTSTART:20260308T020000
TZOFFSETFROM:-0600
TZOFFSETTO:-0500
RDATE:20270314T020000
END:DAYLIGHT
END:VTIMEZONE
BEGIN:VEVENT
UID:8046f067-52f7-424d-8288-54d06d57a0e0
DTSTAMP:20260422T223656Z
DESCRIPTION:The Caring Place Food Pantry is closed on Thursdays. Pantry hou
 rs are 9 AM to 4 PM on Mondays\, Tuesdays\, Wednesdays\, and Fridays.
DTSTART;TZID=America/Chicago:20260521T050000
DTEND;TZID=America/Chicago:20260521T050001
LOCATION:2000 Railroad Ave.\, Georgetown\, TX 78626 US
SUMMARY:Food Pantry Closed
END:VEVENT
END:VCALENDAR
