BEGIN:VCALENDAR
VERSION:2.0
PRODID:-//www.caringplacetx.org//NONSGML kigkonsult.se iCalcreator 2.30.10/
 /
CALSCALE:GREGORIAN
METHOD:PUBLISH
UID:c58cf6a6-31f0-423b-a1f7-862edc5586a8
X-WR-CALDESC:The Caring Place Food Pantry is closed on Thursdays. Pantry ho
 urs are 9 AM to 4 PM on Mondays\, Tuesdays\, Wednesdays\, and Fridays.
X-WR-RELCALID:144222d0a58e9dc629b6c2d963084fac
X-WR-TIMEZONE:America/Chicago
BEGIN:VTIMEZONE
TZID:America/Chicago
BEGIN:STANDARD
TZNAME:CST
DTSTART:20251102T020000
TZOFFSETFROM:-0500
TZOFFSETTO:-0600
RDATE:20261101T020000
END:STANDARD
BEGIN:DAYLIGHT
TZNAME:CDT
DTSTART:20260308T020000
TZOFFSETFROM:-0600
TZOFFSETTO:-0500
RDATE:20270314T020000
END:DAYLIGHT
END:VTIMEZONE
BEGIN:VEVENT
UID:64631839-7f95-458d-b756-6c1c043312c3
DTSTAMP:20260422T230428Z
DESCRIPTION:The Caring Place Food Pantry is closed on Thursdays. Pantry hou
 rs are 9 AM to 4 PM on Mondays\, Tuesdays\, Wednesdays\, and Fridays.
DTSTART;TZID=America/Chicago:20260507T050000
DTEND;TZID=America/Chicago:20260507T050001
LOCATION:2000 Railroad Ave.\, Georgetown\, TX 78626 US
SUMMARY:Food Pantry Closed
END:VEVENT
END:VCALENDAR
