BEGIN:VCALENDAR
VERSION:2.0
PRODID:-//www.caringplacetx.org//NONSGML kigkonsult.se iCalcreator 2.30.10/
 /
CALSCALE:GREGORIAN
METHOD:PUBLISH
UID:fbc53d75-5673-4a2d-81b6-3dabd6c22dec
X-WR-CALDESC:
X-WR-RELCALID:173318bcf91353f628a73fd2e41aceda
X-WR-TIMEZONE:America/Chicago
BEGIN:VTIMEZONE
TZID:America/Chicago
BEGIN:STANDARD
TZNAME:CST
DTSTART:20251102T020000
TZOFFSETFROM:-0500
TZOFFSETTO:-0600
RDATE:20261101T020000
END:STANDARD
BEGIN:DAYLIGHT
TZNAME:CDT
DTSTART:20260308T020000
TZOFFSETFROM:-0600
TZOFFSETTO:-0500
RDATE:20270314T020000
END:DAYLIGHT
END:VTIMEZONE
BEGIN:VEVENT
UID:9b795d32-16f7-41b6-984e-060d62410733
DTSTAMP:20260422T235824Z
DESCRIPTION:
DTSTART;TZID=America/Chicago:20260321T100000
DTEND;TZID=America/Chicago:20260321T160000
LOCATION:3700 Williams Dr.\, Georgetown\, TX 78628 US
SUMMARY:The Best Yard Sale in Texas
END:VEVENT
END:VCALENDAR
