BEGIN:VCALENDAR
VERSION:2.0
PRODID:-//www.caringplacetx.org//NONSGML kigkonsult.se iCalcreator 2.30.10/
 /
CALSCALE:GREGORIAN
METHOD:PUBLISH
UID:6516ac0e-84ad-41c5-806e-f34338c8733d
X-WR-CALDESC:Join us for a jewelry sale at The Shops at The Caring Place! A
 ll jewelry is 50% February 13th through 14th. Whether you're shopping for 
 your valentine\, a galentine\, or yourself\, don't miss this sale!
X-WR-RELCALID:b974bcafdc91b53b554025e1a7d62d33
X-WR-TIMEZONE:America/Chicago
BEGIN:VTIMEZONE
TZID:America/Chicago
BEGIN:STANDARD
TZNAME:CST
DTSTART:20251102T020000
TZOFFSETFROM:-0500
TZOFFSETTO:-0600
RDATE:20261101T020000
END:STANDARD
BEGIN:DAYLIGHT
TZNAME:CDT
DTSTART:20250309T020000
TZOFFSETFROM:-0600
TZOFFSETTO:-0500
RDATE:20260308T020000
RDATE:20270314T020000
END:DAYLIGHT
END:VTIMEZONE
BEGIN:VEVENT
UID:d61708a6-055a-4d79-86a1-35c52184ee0f
DTSTAMP:20260423T004313Z
DESCRIPTION:Join us for a jewelry sale at The Shops at The Caring Place! Al
 l jewelry is 50% February 13th through 14th. Whether you're shopping for y
 our valentine\, a galentine\, or yourself\, don't miss this sale!
DTSTART;TZID=America/Chicago:20260214T100000
DTEND;TZID=America/Chicago:20260214T160000
LOCATION:2000 Railroad Ave.\, Georgetown\, TX 78626 US
SUMMARY:Jewelry Sale - 50% Off
END:VEVENT
END:VCALENDAR
