BEGIN:VCALENDAR
VERSION:2.0
PRODID:-//www.caringplacetx.org//NONSGML kigkonsult.se iCalcreator 2.30.10/
 /
CALSCALE:GREGORIAN
METHOD:PUBLISH
UID:b6354e0f-1807-4b7c-b4ca-f015df225487
X-WR-CALDESC:Join us for a jewelry sale at The Shops at The Caring Place! A
 ll jewelry is 50% February 13th through 14th. Whether you're shopping for 
 your valentine\, a galentine\, or yourself\, don't miss this sale!
X-WR-RELCALID:0488c0597410cbcdee7045d9378baa77
X-WR-TIMEZONE:America/Chicago
BEGIN:VTIMEZONE
TZID:America/Chicago
BEGIN:STANDARD
TZNAME:CST
DTSTART:20251102T020000
TZOFFSETFROM:-0500
TZOFFSETTO:-0600
RDATE:20261101T020000
END:STANDARD
BEGIN:DAYLIGHT
TZNAME:CDT
DTSTART:20250309T020000
TZOFFSETFROM:-0600
TZOFFSETTO:-0500
RDATE:20260308T020000
RDATE:20270314T020000
END:DAYLIGHT
END:VTIMEZONE
BEGIN:VEVENT
UID:67765965-15c4-4dee-9da4-979f5537cf7b
DTSTAMP:20260423T001449Z
DESCRIPTION:Join us for a jewelry sale at The Shops at The Caring Place! Al
 l jewelry is 50% February 13th through 14th. Whether you're shopping for y
 our valentine\, a galentine\, or yourself\, don't miss this sale!
DTSTART;TZID=America/Chicago:20260213T100000
DTEND;TZID=America/Chicago:20260213T160000
LOCATION:2000 Railroad Ave.\, Georgetown\, TX 78626 US
SUMMARY:Jewelry Sale - 50% Off
END:VEVENT
END:VCALENDAR
